BEGIN:VCALENDAR
VERSION:2.0
PRODID:-//Hondencertum-Reflectie - ECPv6.15.20//NONSGML v1.0//EN
CALSCALE:GREGORIAN
METHOD:PUBLISH
X-WR-CALNAME:Hondencertum-Reflectie
X-ORIGINAL-URL:https://hondencentrum-reflectie.nl
X-WR-CALDESC:Evenementen voor Hondencertum-Reflectie
REFRESH-INTERVAL;VALUE=DURATION:PT1H
X-Robots-Tag:noindex
X-PUBLISHED-TTL:PT1H
BEGIN:VTIMEZONE
TZID:Europe/Amsterdam
BEGIN:DAYLIGHT
TZOFFSETFROM:+0100
TZOFFSETTO:+0200
TZNAME:CEST
DTSTART:20230326T010000
END:DAYLIGHT
BEGIN:STANDARD
TZOFFSETFROM:+0200
TZOFFSETTO:+0100
TZNAME:CET
DTSTART:20231029T010000
END:STANDARD
BEGIN:DAYLIGHT
TZOFFSETFROM:+0100
TZOFFSETTO:+0200
TZNAME:CEST
DTSTART:20240331T010000
END:DAYLIGHT
BEGIN:STANDARD
TZOFFSETFROM:+0200
TZOFFSETTO:+0100
TZNAME:CET
DTSTART:20241027T010000
END:STANDARD
BEGIN:DAYLIGHT
TZOFFSETFROM:+0100
TZOFFSETTO:+0200
TZNAME:CEST
DTSTART:20250330T010000
END:DAYLIGHT
BEGIN:STANDARD
TZOFFSETFROM:+0200
TZOFFSETTO:+0100
TZNAME:CET
DTSTART:20251026T010000
END:STANDARD
END:VTIMEZONE
BEGIN:VEVENT
DTSTART;TZID=Europe/Amsterdam:20240921T100000
DTEND;TZID=Europe/Amsterdam:20240921T160000
DTSTAMP:20260424T163612
CREATED:20240802T064654Z
LAST-MODIFIED:20240912T195034Z
UID:10000068-1726912800-1726934400@hondencentrum-reflectie.nl
SUMMARY:PraktijkSpeuren(Oranjewoud) (Vol)
DESCRIPTION:Aanmelden Speurles
URL:https://hondencentrum-reflectie.nl/events/praktijkspeurenoranjewoud-2/
LOCATION:Oranjewoud\, Kon. Julianaweg 98\, Heerenveen\, Friesland\, 8453 WH\, Nederland
CATEGORIES:Speuren
ATTACH;FMTTYPE=image/jpeg:https://hondencentrum-reflectie.nl/wp-content/uploads/2023/11/adobestock-242854683-1.480x0.avif
ORGANIZER;CN="Francisco (Trainer)":MAILTO:info@hondencentrum-reflectie.nl
END:VEVENT
BEGIN:VEVENT
DTSTART;TZID=Europe/Amsterdam:20240914T100000
DTEND;TZID=Europe/Amsterdam:20240914T170000
DTSTAMP:20260424T163612
CREATED:20240907T162141Z
LAST-MODIFIED:20240908T191522Z
UID:10000072-1726308000-1726333200@hondencentrum-reflectie.nl
SUMMARY:Praktijkspeuren (Oranjewoud) (Vol)
DESCRIPTION:Aanmelden Speurles
URL:https://hondencentrum-reflectie.nl/events/praktijkspeuren-oranjewoud-vol/
LOCATION:Oranjewoud\, Kon. Julianaweg 98\, Heerenveen\, Friesland\, 8453 WH\, Nederland
CATEGORIES:Speuren
ATTACH;FMTTYPE=image/jpeg:https://hondencentrum-reflectie.nl/wp-content/uploads/2023/11/adobestock-242854683-1.480x0.avif
ORGANIZER;CN="Francisco (Trainer)":MAILTO:info@hondencentrum-reflectie.nl
END:VEVENT
BEGIN:VEVENT
DTSTART;TZID=Europe/Amsterdam:20240907T100000
DTEND;TZID=Europe/Amsterdam:20240907T160000
DTSTAMP:20260424T163612
CREATED:20240801T125247Z
LAST-MODIFIED:20240805T122245Z
UID:10000066-1725703200-1725724800@hondencentrum-reflectie.nl
SUMMARY:PraktijkSpeuren (Oranjewoud)
DESCRIPTION:Aanmelden Speurles
URL:https://hondencentrum-reflectie.nl/events/proefles-praktijkspeurenoranjewoud/
LOCATION:Oranjewoud\, Kon. Julianaweg 98\, Heerenveen\, Friesland\, 8453 WH\, Nederland
CATEGORIES:Speuren
ATTACH;FMTTYPE=image/jpeg:https://hondencentrum-reflectie.nl/wp-content/uploads/2023/11/adobestock-242854683-1.480x0.avif
ORGANIZER;CN="Francisco (Trainer)":MAILTO:info@hondencentrum-reflectie.nl
END:VEVENT
END:VCALENDAR