BEGIN:VCALENDAR
VERSION:2.0
PRODID:-//Hondencertum-Reflectie - ECPv6.15.20//NONSGML v1.0//EN
CALSCALE:GREGORIAN
METHOD:PUBLISH
X-ORIGINAL-URL:https://hondencentrum-reflectie.nl
X-WR-CALDESC:Evenementen voor Hondencertum-Reflectie
REFRESH-INTERVAL;VALUE=DURATION:PT1H
X-Robots-Tag:noindex
X-PUBLISHED-TTL:PT1H
BEGIN:VTIMEZONE
TZID:Europe/Amsterdam
BEGIN:DAYLIGHT
TZOFFSETFROM:+0100
TZOFFSETTO:+0200
TZNAME:CEST
DTSTART:20230326T010000
END:DAYLIGHT
BEGIN:STANDARD
TZOFFSETFROM:+0200
TZOFFSETTO:+0100
TZNAME:CET
DTSTART:20231029T010000
END:STANDARD
BEGIN:DAYLIGHT
TZOFFSETFROM:+0100
TZOFFSETTO:+0200
TZNAME:CEST
DTSTART:20240331T010000
END:DAYLIGHT
BEGIN:STANDARD
TZOFFSETFROM:+0200
TZOFFSETTO:+0100
TZNAME:CET
DTSTART:20241027T010000
END:STANDARD
BEGIN:DAYLIGHT
TZOFFSETFROM:+0100
TZOFFSETTO:+0200
TZNAME:CEST
DTSTART:20250330T010000
END:DAYLIGHT
BEGIN:STANDARD
TZOFFSETFROM:+0200
TZOFFSETTO:+0100
TZNAME:CET
DTSTART:20251026T010000
END:STANDARD
BEGIN:DAYLIGHT
TZOFFSETFROM:+0100
TZOFFSETTO:+0200
TZNAME:CEST
DTSTART:20260329T010000
END:DAYLIGHT
BEGIN:STANDARD
TZOFFSETFROM:+0200
TZOFFSETTO:+0100
TZNAME:CET
DTSTART:20261025T010000
END:STANDARD
END:VTIMEZONE
BEGIN:VEVENT
DTSTART;TZID=Europe/Amsterdam:20250303T191500
DTEND;TZID=Europe/Amsterdam:20250303T200000
DTSTAMP:20260423T124302
CREATED:20250122T181527Z
LAST-MODIFIED:20250123T100856Z
UID:10000100-1741029300-1741032000@hondencentrum-reflectie.nl
SUMMARY:Puppycursus
DESCRIPTION:Aanmelden\n		Cursus informatie
URL:https://hondencentrum-reflectie.nl/events/puppycursus-nog-1-plek/
LOCATION:Heerenveen\, Beurtschip 23\, Heerenveen\, Friesland\, 8447 CL\, Netherlands
CATEGORIES:Puppy
ATTACH;FMTTYPE=image/png:https://hondencentrum-reflectie.nl/wp-content/uploads/2020/04/Zonder-titel-2560-x-1707-px.avif
ORGANIZER;CN="Francisco (Trainer)":MAILTO:info@hondencentrum-reflectie.nl
END:VEVENT
BEGIN:VEVENT
DTSTART;TZID=Europe/Amsterdam:20250131T193000
DTEND;TZID=Europe/Amsterdam:20250131T201500
DTSTAMP:20260423T124302
CREATED:20250115T201959Z
LAST-MODIFIED:20250516T102933Z
UID:10000098-1738351800-1738354500@hondencentrum-reflectie.nl
SUMMARY:Jonge hondencursus(Nog 1 plek)
DESCRIPTION:Aanmelden\n		Cursus informatie\n					Aanmelden
URL:https://hondencentrum-reflectie.nl/events/jonge-hondencursus-2/
LOCATION:Heerenveen\, Beurtschip 23\, Heerenveen\, Friesland\, 8447 CL\, Netherlands
CATEGORIES:JongeHond
ATTACH;FMTTYPE=image/png:https://hondencentrum-reflectie.nl/wp-content/uploads/2023/11/Titel-2.avif
ORGANIZER;CN="Francisco (Trainer)":MAILTO:info@hondencentrum-reflectie.nl
END:VEVENT
BEGIN:VEVENT
DTSTART;TZID=Europe/Amsterdam:20250121T191500
DTEND;TZID=Europe/Amsterdam:20250121T200000
DTSTAMP:20260423T124302
CREATED:20241127T202750Z
LAST-MODIFIED:20250109T193348Z
UID:10000090-1737486900-1737489600@hondencentrum-reflectie.nl
SUMMARY:Puppycursus (nog 1 plek)
DESCRIPTION:Aanmelden\n		Cursus informatie
URL:https://hondencentrum-reflectie.nl/events/puppycursus-3/
LOCATION:Heerenveen\, Beurtschip 23\, Heerenveen\, Friesland\, 8447 CL\, Netherlands
CATEGORIES:Puppy
ATTACH;FMTTYPE=image/png:https://hondencentrum-reflectie.nl/wp-content/uploads/2020/04/Zonder-titel-2560-x-1707-px.avif
ORGANIZER;CN="Francisco (Trainer)":MAILTO:info@hondencentrum-reflectie.nl
END:VEVENT
BEGIN:VEVENT
DTSTART;TZID=Europe/Amsterdam:20250106T200000
DTEND;TZID=Europe/Amsterdam:20250106T204500
DTSTAMP:20260423T124302
CREATED:20240719T124724Z
LAST-MODIFIED:20241207T235014Z
UID:10000063-1736193600-1736196300@hondencentrum-reflectie.nl
SUMMARY:PuberCursus(Vol)
DESCRIPTION:Aanmelden\nCursus informatie
URL:https://hondencentrum-reflectie.nl/events/pubercursus/
LOCATION:Heerenveen\, Beurtschip 23\, Heerenveen\, Friesland\, 8447 CL\, Netherlands
CATEGORIES:Puber
ATTACH;FMTTYPE=image/jpeg:https://hondencentrum-reflectie.nl/wp-content/uploads/2020/05/young-woman-training-dog-on-path-2022-11-12-03-01-50-utc-scaled.avif
ORGANIZER;CN="Francisco (Trainer)":MAILTO:info@hondencentrum-reflectie.nl
END:VEVENT
BEGIN:VEVENT
DTSTART;TZID=Europe/Amsterdam:20250106T191500
DTEND;TZID=Europe/Amsterdam:20250106T200000
DTSTAMP:20260423T124302
CREATED:20240512T113252Z
LAST-MODIFIED:20241231T165033Z
UID:10000045-1736190900-1736193600@hondencentrum-reflectie.nl
SUMMARY:Jonge hondencursus(Vol)
DESCRIPTION:Aanmelden\nCursus informatie
URL:https://hondencentrum-reflectie.nl/events/jong/
LOCATION:Heerenveen\, Beurtschip 23\, Heerenveen\, Friesland\, 8447 CL\, Netherlands
CATEGORIES:JongeHond
ATTACH;FMTTYPE=image/png:https://hondencentrum-reflectie.nl/wp-content/uploads/2023/11/Titel-2.avif
ORGANIZER;CN="Francisco (Trainer)":MAILTO:info@hondencentrum-reflectie.nl
END:VEVENT
BEGIN:VEVENT
DTSTART;TZID=Europe/Amsterdam:20240917T191500
DTEND;TZID=Europe/Amsterdam:20240917T200000
DTSTAMP:20260423T124302
CREATED:20240906T125106Z
LAST-MODIFIED:20241004T122913Z
UID:10000071-1726600500-1726603200@hondencentrum-reflectie.nl
SUMMARY:Puppycursus
DESCRIPTION:Aanmelden\nCursus informatie
URL:https://hondencentrum-reflectie.nl/events/puppy-cursus/
LOCATION:Heerenveen\, Beurtschip 23\, Heerenveen\, Friesland\, 8447 CL\, Netherlands
CATEGORIES:Puppy
ATTACH;FMTTYPE=image/png:https://hondencentrum-reflectie.nl/wp-content/uploads/2023/11/Ontwerp-zonder-titel-1.avif
ORGANIZER;CN="Francisco (Trainer)":MAILTO:info@hondencentrum-reflectie.nl
END:VEVENT
END:VCALENDAR